BEGIN:VCALENDAR
VERSION:2.0
PRODID:-//MADA - Minnesota Automobile Dealers Association - ECPv6.15.18//NONSGML v1.0//EN
CALSCALE:GREGORIAN
METHOD:PUBLISH
X-WR-CALNAME:MADA - Minnesota Automobile Dealers Association
X-ORIGINAL-URL:https://mada.org
X-WR-CALDESC:Events for MADA - Minnesota Automobile Dealers Association
REFRESH-INTERVAL;VALUE=DURATION:PT1H
X-Robots-Tag:noindex
X-PUBLISHED-TTL:PT1H
BEGIN:VTIMEZONE
TZID:America/Chicago
BEGIN:DAYLIGHT
TZOFFSETFROM:-0600
TZOFFSETTO:-0500
TZNAME:CDT
DTSTART:20250309T080000
END:DAYLIGHT
BEGIN:STANDARD
TZOFFSETFROM:-0500
TZOFFSETTO:-0600
TZNAME:CST
DTSTART:20251102T070000
END:STANDARD
BEGIN:DAYLIGHT
TZOFFSETFROM:-0600
TZOFFSETTO:-0500
TZNAME:CDT
DTSTART:20260308T080000
END:DAYLIGHT
BEGIN:STANDARD
TZOFFSETFROM:-0500
TZOFFSETTO:-0600
TZNAME:CST
DTSTART:20261101T070000
END:STANDARD
BEGIN:DAYLIGHT
TZOFFSETFROM:-0600
TZOFFSETTO:-0500
TZNAME:CDT
DTSTART:20270314T080000
END:DAYLIGHT
BEGIN:STANDARD
TZOFFSETFROM:-0500
TZOFFSETTO:-0600
TZNAME:CST
DTSTART:20271107T070000
END:STANDARD
END:VTIMEZONE
BEGIN:VEVENT
DTSTART;VALUE=DATE:20260219
DTEND;VALUE=DATE:20270101
DTSTAMP:20260423T061730
CREATED:20260219T184825Z
LAST-MODIFIED:20260219T185500Z
UID:10000033-1771459200-1798761599@mada.org
SUMMARY:(On-Demand) MN Electric Vehicle Certification Course
DESCRIPTION:Details\nState-Mandated EV Certification Course – Now Required for All Dealerships\nTo support Minnesota’s transition to electric vehicles (EVs)\, the state now requires each dealership to have at least one certified EV sales representative on staff. This course ensures your team is compliant with this mandate and prepared to confidently engage today’s EV buyers. \nFor more information about this course\, visit our Training Information Page. \nPricing:\n\n\n\n$149 per individual\n\n\n\nGet Your Course \nQuestions? Email Amanda Duerr or call 651-789-2949
URL:https://mada.org/event/on-demand-mn-electric-vehicle-certification-course-2/
LOCATION:MN
CATEGORIES:Training
END:VEVENT
BEGIN:VEVENT
DTSTART;VALUE=DATE:20260219
DTEND;VALUE=DATE:20270101
DTSTAMP:20260423T061730
CREATED:20260219T183657Z
LAST-MODIFIED:20260219T185636Z
UID:10000032-1771459200-1798761599@mada.org
SUMMARY:(On-Demand) MADA Title Basics
DESCRIPTION:Title Basics provides the foundational knowledge required to successfully and confidently process title & registration transactions. This course will explore the components and procedures needed to complete the most frequent transactions\, including commonly used forms\, transaction types and applicable fees. \nFor more information about this course\, visit our Training Information Page. \nPricing:\n\n$199 per individual\n\nGet Your Course
URL:https://mada.org/event/on-demand-mada-title-basics/
LOCATION:MN
CATEGORIES:Training
ORGANIZER;CN="MADA Title Solutions":MAILTO:TitleSolutions@mada.org
END:VEVENT
BEGIN:VEVENT
DTSTART;TZID=America/Chicago:20260423T083000
DTEND;TZID=America/Chicago:20260423T130000
DTSTAMP:20260423T061730
CREATED:20260311T213633Z
LAST-MODIFIED:20260311T213633Z
UID:10000034-1776933000-1776949200@mada.org
SUMMARY:Certified Title and Registration Program - April 23
DESCRIPTION:The Certified Title & Registration Program is designed to provide the essential skills and knowledge required for optimal performance in Minnesota Title and Registration processing.\nThis comprehensive program covers the following three topic areas in depth: \n\nSales Tax\nNew-to-State Vehicles\nMinnesota Titles and Transfers\n\nA test is administered for each topic. Participants must successfully pass all three tests to earn certification. Certification is mandatory for participation in the Electronic Vehicle Title and Registration (EVTR) program.\nProgram Format\nThis is a virtual program consisting of self-paced video modules followed by a required live session.\nTo ensure you are fully prepared\, all video modules must be completed prior to attending the live overview and testing session.\nThe live session provides a summary and review of the material and includes testing. It is not a substitute for the instructional content in the videos. Participants who do not complete the video modules in advance will be ill-prepared for the tests.
URL:https://mada.org/event/certified-title-and-registration-program-april-23/
LOCATION:https://mada.org/event/certified-title-and-registration-program-april-23/
CATEGORIES:Training,Webinar
ORGANIZER;CN="MADA Title Solutions":MAILTO:TitleSolutions@mada.org
END:VEVENT
BEGIN:VEVENT
DTSTART;TZID=America/Chicago:20260423T100000
DTEND;TZID=America/Chicago:20260423T113000
DTSTAMP:20260423T061730
CREATED:20260317T192653Z
LAST-MODIFIED:20260317T192653Z
UID:10000045-1776938400-1776943800@mada.org
SUMMARY:Marshall Workforce Development Roundtable
DESCRIPTION:Workforce Challenges? Let’s Solve Them Together. \nMinnesota dealerships are facing real workforce challenges — recruiting\, training\, and retaining quality employees. MADA is gathering input directly from dealership owners and staff to better understand these issues and identify practical solutions. \nMADA staff will be traveling across Minnesota in April to host regional workforce development roundtables. These sessions will bring dealers together to discuss workforce challenges\, share ideas\, and explore solutions that save dealerships time and money. \nAt these meetings we will:\n-Share key insights from the workforce survey\n-Explore partnerships with high schools and technical colleges\n-Identify training or workforce resources dealers need \nThese are informal\, discussion-based meetings designed to hear directly from dealerships in your region.
URL:https://mada.org/event/marshall-workforce-development-roundtable/
LOCATION:AmericInn by Wyndham\, 1406 East Lyon St\, Marshall\, MN\, United States
CATEGORIES:member
ORGANIZER;CN="Trisha Hamm":MAILTO:trisha@mada.org
END:VEVENT
END:VCALENDAR